BEGIN:VCALENDAR
VERSION:2.0
PRODID:-//Tukios.com/
BEGIN:VEVENT
UID:c131bb45-7176-42f0-a65b-cc279f336b1d@www.slbfamilyfuneral.com
DTSTAMP:20260420T093400Z
DTSTART:20260425
SUMMARY:Interment
DESCRIPTION:
URL:https://www.slbfamilyfuneral.com/obituaries/joseph-brown
LOCATION: 3012 Blount Road  Baton Rouge LA 70807
GEO:30.5439145;-91.1624242
END:VEVENT
END:VCALENDAR