BEGIN:VCALENDAR
VERSION:2.0
PRODID:-//Tukios.com/
BEGIN:VEVENT
UID:3bf2cb3a-0ca1-4fab-9cef-b192385a7c38@www.slbfamilyfuneral.com
DTSTAMP:20260420T093301Z
DTSTART:20260425T160000Z
DTEND:20260425T173000Z
SUMMARY:Celebration of Life
DESCRIPTION:
URL:https://www.slbfamilyfuneral.com/obituaries/joseph-brown
LOCATION: 7200 Maplewood Dr  Baton Rouge LA 70812
GEO:30.5058017;-91.1202752
END:VEVENT
END:VCALENDAR