BEGIN:VCALENDAR
VERSION:2.0
PRODID:-//Tukios.com/
BEGIN:VEVENT
UID:2caf52be-1682-42fd-821f-caf5cb2614ec@www.slbfamilyfuneral.com
DTSTAMP:20260420T093301Z
DTSTART:20260425T150000Z
DTEND:20260425T160000Z
SUMMARY:Visitation
DESCRIPTION:
URL:https://www.slbfamilyfuneral.com/obituaries/joseph-brown
LOCATION: 7200 Maplewood Dr  Baton Rouge LA 70812
GEO:30.5058017;-91.1202752
END:VEVENT
END:VCALENDAR